BEGIN:VCALENDAR
VERSION:2.0
PRODID:-//Loders Parish Council//Meeting Calendar//EN
CALSCALE:GREGORIAN
METHOD:PUBLISH
BEGIN:VEVENT
UID:70478-20240917@lodersparishcouncil.gov.uk
DTSTAMP:20260422T091149Z
DTSTART;VALUE=DATE:20240917
DTEND;VALUE=DATE:20240918
SUMMARY:Full Council Meeting &#8211\\; 17 September 2024
DESCRIPTION:Full Council Meeting\nView details: https://lodersparishcouncil.gov.uk/meetings/full-council-meeting-17-september-2024/
URL:https://lodersparishcouncil.gov.uk/meetings/full-council-meeting-17-september-2024/
END:VEVENT
END:VCALENDAR
